BEGIN:VCALENDAR
VERSION:2.0
PRODID:-//Baltic-Schule Lübeck - ECPv6.15.20//NONSGML v1.0//EN
CALSCALE:GREGORIAN
METHOD:PUBLISH
X-WR-CALNAME:Baltic-Schule Lübeck
X-ORIGINAL-URL:https://www.xn--baltic-schule-lbeck-kbc.de
X-WR-CALDESC:Veranstaltungen für Baltic-Schule Lübeck
REFRESH-INTERVAL;VALUE=DURATION:PT1H
X-Robots-Tag:noindex
X-PUBLISHED-TTL:PT1H
BEGIN:VTIMEZONE
TZID:Europe/Berlin
BEGIN:DAYLIGHT
TZOFFSETFROM:+0100
TZOFFSETTO:+0200
TZNAME:CEST
DTSTART:20240331T010000
END:DAYLIGHT
BEGIN:STANDARD
TZOFFSETFROM:+0200
TZOFFSETTO:+0100
TZNAME:CET
DTSTART:20241027T010000
END:STANDARD
BEGIN:DAYLIGHT
TZOFFSETFROM:+0100
TZOFFSETTO:+0200
TZNAME:CEST
DTSTART:20250330T010000
END:DAYLIGHT
BEGIN:STANDARD
TZOFFSETFROM:+0200
TZOFFSETTO:+0100
TZNAME:CET
DTSTART:20251026T010000
END:STANDARD
BEGIN:DAYLIGHT
TZOFFSETFROM:+0100
TZOFFSETTO:+0200
TZNAME:CEST
DTSTART:20260329T010000
END:DAYLIGHT
BEGIN:STANDARD
TZOFFSETFROM:+0200
TZOFFSETTO:+0100
TZNAME:CET
DTSTART:20261025T010000
END:STANDARD
END:VTIMEZONE
BEGIN:VEVENT
DTSTART;VALUE=DATE:20250704
DTEND;VALUE=DATE:20250705
DTSTAMP:20260422T165402
CREATED:20230909T100318Z
LAST-MODIFIED:20241109T151841Z
UID:3950-1751587200-1751673599@www.xn--baltic-schule-lbeck-kbc.de
SUMMARY:Entlassung
DESCRIPTION:
URL:https://www.xn--baltic-schule-lbeck-kbc.de/termin/entlassung/
LOCATION:Baltic-Schule Lübeck\, Karavellenstraße 2-4\, Lübeck\, Schleswig-Holstein\, 23558\, Germany
END:VEVENT
BEGIN:VEVENT
DTSTART;TZID=Europe/Berlin:20250708T190000
DTEND;TZID=Europe/Berlin:20250708T203000
DTSTAMP:20260422T165402
CREATED:20250620T161429Z
LAST-MODIFIED:20250707T103114Z
UID:6909-1752001200-1752006600@www.xn--baltic-schule-lbeck-kbc.de
SUMMARY:Kennenlernelternabend für den neuen 5. Jahrgang
DESCRIPTION:
URL:https://www.xn--baltic-schule-lbeck-kbc.de/termin/elternabend-fuer-den-neuen-5-jahrgang/
LOCATION:Multifunktionsraum (Gebäude Grundschule)
END:VEVENT
BEGIN:VEVENT
DTSTART;TZID=Europe/Berlin:20250722T090000
DTEND;TZID=Europe/Berlin:20250722T113000
DTSTAMP:20260422T165402
CREATED:20220615T174541Z
LAST-MODIFIED:20250923T081154Z
UID:4861-1753174800-1753183800@www.xn--baltic-schule-lbeck-kbc.de
SUMMARY:Kennenlernvormittag des kommenden 11. Jahrgangs 
DESCRIPTION:Eingeladen sind alle für den kommenden 11. Jahrgang aufgenommenen Schülerinnen und Schüler. Nach einem kurzen organisatorischen Teil\, werdet ihr die neuen Mitschülerinnen und Mitschüler und die Klassenlehrkraft kennenlernen und Informationen zum Schulstart nach den Ferien erhalten. \nAd
URL:https://www.xn--baltic-schule-lbeck-kbc.de/termin/kennenlernvormittag-des-kommenden-11-jahrgangs/
LOCATION:Baltic-Schule Lübeck\, Karavellenstraße 2-4\, Lübeck\, Schleswig-Holstein\, 23558\, Germany
END:VEVENT
BEGIN:VEVENT
DTSTART;VALUE=DATE:20250728
DTEND;VALUE=DATE:20250907
DTSTAMP:20260422T165402
CREATED:20230909T062600Z
LAST-MODIFIED:20241109T152427Z
UID:447-1753660800-1757203199@www.xn--baltic-schule-lbeck-kbc.de
SUMMARY:Sommerferien 2024
DESCRIPTION:Sommerferien 2024 in Schleswig-Holstein
URL:https://www.xn--baltic-schule-lbeck-kbc.de/termin/sommerferein-2018/
LOCATION:Schleswig-Holstein
CATEGORIES:Ferien
END:VEVENT
END:VCALENDAR